BEGIN:VCALENDAR
VERSION:2.0
PRODID:-//The York BID - ECPv6.15.17.1//NONSGML v1.0//EN
CALSCALE:GREGORIAN
METHOD:PUBLISH
X-WR-CALNAME:The York BID
X-ORIGINAL-URL:https://www.theyorkbid.com
X-WR-CALDESC:Events for The York BID
REFRESH-INTERVAL;VALUE=DURATION:PT1H
X-Robots-Tag:noindex
X-PUBLISHED-TTL:PT1H
BEGIN:VTIMEZONE
TZID:Europe/London
BEGIN:DAYLIGHT
TZOFFSETFROM:+0000
TZOFFSETTO:+0100
TZNAME:BST
DTSTART:20250330T010000
END:DAYLIGHT
BEGIN:STANDARD
TZOFFSETFROM:+0100
TZOFFSETTO:+0000
TZNAME:GMT
DTSTART:20251026T010000
END:STANDARD
BEGIN:DAYLIGHT
TZOFFSETFROM:+0000
TZOFFSETTO:+0100
TZNAME:BST
DTSTART:20260329T010000
END:DAYLIGHT
BEGIN:STANDARD
TZOFFSETFROM:+0100
TZOFFSETTO:+0000
TZNAME:GMT
DTSTART:20261025T010000
END:STANDARD
BEGIN:DAYLIGHT
TZOFFSETFROM:+0000
TZOFFSETTO:+0100
TZNAME:BST
DTSTART:20270328T010000
END:DAYLIGHT
BEGIN:STANDARD
TZOFFSETFROM:+0100
TZOFFSETTO:+0000
TZNAME:GMT
DTSTART:20271031T010000
END:STANDARD
END:VTIMEZONE
BEGIN:VEVENT
DTSTART;TZID=Europe/London:20260611T183000
DTEND;TZID=Europe/London:20260611T203000
DTSTAMP:20260422T205412
CREATED:20260422T151207Z
LAST-MODIFIED:20260422T151207Z
UID:6647-1781202600-1781209800@www.theyorkbid.com
SUMMARY:York Best Bar None Awards
DESCRIPTION:We’re thrilled to be hosting the inaugural York Best Bar None (BBN) Awards on Thursday 11th June. These awards recognise York’s pubs\, clubs\, bars\, restaurants\, and entertainment venues for excellence in safety\, customer care\, and community. \nIf you’re a licensed venue that would like to be in for a chance of winning an award\, it’s not too late to get involved! Book your BBN assessment now – venues must be accredited by 15th May to be eligible for an award. Contact safetynetwork@theyorkbid.com for more information on BBN and your Awards sign up link.
URL:https://www.theyorkbid.com/event/york-best-bar-none-awards/
LOCATION:Impossible\, York\, 3 St. Helen's Square\, YO1 8QN
ATTACH;FMTTYPE=image/png:https://www.theyorkbid.com/wp-content/uploads/2026/04/BBN-Awards-169-Banner.png
END:VEVENT
BEGIN:VEVENT
DTSTART;TZID=Europe/London:20260902T090000
DTEND;TZID=Europe/London:20260908T130000
DTSTAMP:20260422T205412
CREATED:20260415T153230Z
LAST-MODIFIED:20260415T153316Z
UID:6576-1788339600-1788872400@www.theyorkbid.com
SUMMARY:Rejuvenation Days
DESCRIPTION:Join York BID to help keep York looking its best by cleaning and repainting street furniture like bike racks\, benches\, bollards\, and more on Wednesday 2nd\, Friday 4th\, and Tuesday 8th. Each volunteering session runs from 9am to 1pm in St Helen’s Square. \nTo take part\, register your place here.
URL:https://www.theyorkbid.com/event/september-2026-rejuvenation-days/
ATTACH;FMTTYPE=image/jpeg:https://www.theyorkbid.com/wp-content/uploads/2026/04/Rejuv-Banner-169.jpg
END:VEVENT
END:VCALENDAR