BEGIN:VCALENDAR
VERSION:2.0
PRODID:-//The York BID - ECPv6.15.17.1//NONSGML v1.0//EN
CALSCALE:GREGORIAN
METHOD:PUBLISH
X-ORIGINAL-URL:https://www.theyorkbid.com
X-WR-CALDESC:Events for The York BID
REFRESH-INTERVAL;VALUE=DURATION:PT1H
X-Robots-Tag:noindex
X-PUBLISHED-TTL:PT1H
BEGIN:VTIMEZONE
TZID:Europe/London
BEGIN:DAYLIGHT
TZOFFSETFROM:+0000
TZOFFSETTO:+0100
TZNAME:BST
DTSTART:20230326T010000
END:DAYLIGHT
BEGIN:STANDARD
TZOFFSETFROM:+0100
TZOFFSETTO:+0000
TZNAME:GMT
DTSTART:20231029T010000
END:STANDARD
BEGIN:DAYLIGHT
TZOFFSETFROM:+0000
TZOFFSETTO:+0100
TZNAME:BST
DTSTART:20240331T010000
END:DAYLIGHT
BEGIN:STANDARD
TZOFFSETFROM:+0100
TZOFFSETTO:+0000
TZNAME:GMT
DTSTART:20241027T010000
END:STANDARD
BEGIN:DAYLIGHT
TZOFFSETFROM:+0000
TZOFFSETTO:+0100
TZNAME:BST
DTSTART:20250330T010000
END:DAYLIGHT
BEGIN:STANDARD
TZOFFSETFROM:+0100
TZOFFSETTO:+0000
TZNAME:GMT
DTSTART:20251026T010000
END:STANDARD
END:VTIMEZONE
BEGIN:VEVENT
DTSTART;VALUE=DATE:20240920
DTEND;VALUE=DATE:20240930
DTSTAMP:20260423T175203
CREATED:20220223T140016Z
LAST-MODIFIED:20250109T094053Z
UID:1187-1726790400-1727654399@www.theyorkbid.com
SUMMARY:York Food & Drink Festival
DESCRIPTION:York Food & Drink Festival promotes local food producers\, independent restaurants and retailers in York. \nIn addition to delicious food and drink\, you will find educational and fun workshops and cookery demonstrations from top chefs. \nStay tuned for more exciting updates!
URL:https://www.theyorkbid.com/event/york-food-and-drink-festival/
ATTACH;FMTTYPE=image/png:https://www.theyorkbid.com/wp-content/uploads/2022/02/Web-Event-Feature-Image-Template-6.png
END:VEVENT
END:VCALENDAR